BEGIN:VCALENDAR
VERSION:2.0
PRODID:-//SEQCC - Southeast Queens Camera Club - ECPv6.15.18//NONSGML v1.0//EN
CALSCALE:GREGORIAN
METHOD:PUBLISH
X-WR-CALNAME:SEQCC - Southeast Queens Camera Club
X-ORIGINAL-URL:https://www.seqcc.org
X-WR-CALDESC:Events for SEQCC - Southeast Queens Camera Club
REFRESH-INTERVAL;VALUE=DURATION:PT1H
X-Robots-Tag:noindex
X-PUBLISHED-TTL:PT1H
BEGIN:VTIMEZONE
TZID:America/New_York
BEGIN:DAYLIGHT
TZOFFSETFROM:-0500
TZOFFSETTO:-0400
TZNAME:EDT
DTSTART:20190310T070000
END:DAYLIGHT
BEGIN:STANDARD
TZOFFSETFROM:-0400
TZOFFSETTO:-0500
TZNAME:EST
DTSTART:20191103T060000
END:STANDARD
BEGIN:DAYLIGHT
TZOFFSETFROM:-0500
TZOFFSETTO:-0400
TZNAME:EDT
DTSTART:20200308T070000
END:DAYLIGHT
BEGIN:STANDARD
TZOFFSETFROM:-0400
TZOFFSETTO:-0500
TZNAME:EST
DTSTART:20201101T060000
END:STANDARD
BEGIN:DAYLIGHT
TZOFFSETFROM:-0500
TZOFFSETTO:-0400
TZNAME:EDT
DTSTART:20210314T070000
END:DAYLIGHT
BEGIN:STANDARD
TZOFFSETFROM:-0400
TZOFFSETTO:-0500
TZNAME:EST
DTSTART:20211107T060000
END:STANDARD
BEGIN:DAYLIGHT
TZOFFSETFROM:-0500
TZOFFSETTO:-0400
TZNAME:EDT
DTSTART:20220313T070000
END:DAYLIGHT
BEGIN:STANDARD
TZOFFSETFROM:-0400
TZOFFSETTO:-0500
TZNAME:EST
DTSTART:20221106T060000
END:STANDARD
BEGIN:DAYLIGHT
TZOFFSETFROM:-0500
TZOFFSETTO:-0400
TZNAME:EDT
DTSTART:20230312T070000
END:DAYLIGHT
BEGIN:STANDARD
TZOFFSETFROM:-0400
TZOFFSETTO:-0500
TZNAME:EST
DTSTART:20231105T060000
END:STANDARD
END:VTIMEZONE
BEGIN:VEVENT
DTSTART;TZID=America/New_York:20220524T190000
DTEND;TZID=America/New_York:20220524T210000
DTSTAMP:20260421T053029
CREATED:20210818T224639Z
LAST-MODIFIED:20210818T224639Z
UID:2804-1653418800-1653426000@www.seqcc.org
SUMMARY:BEST OF THE BEST (May 2022)
DESCRIPTION:
URL:https://www.seqcc.org/event/best-of-the-best-may-2022/
LOCATION:Zoom Meeting\, NY\, United States
CATEGORIES:Competition
ATTACH;FMTTYPE=image/jpeg:https://www.seqcc.org/wp-content/uploads/2021/07/C35-rsimmons-S1-glow.jpg
ORGANIZER;CN="Competition Committee":MAILTO:DigitalComp@seqcc.org
END:VEVENT
BEGIN:VEVENT
DTSTART;TZID=America/New_York:20220322T190000
DTEND;TZID=America/New_York:20220322T210000
DTSTAMP:20260421T053029
CREATED:20210818T230207Z
LAST-MODIFIED:20210818T230207Z
UID:2808-1647975600-1647982800@www.seqcc.org
SUMMARY:CLUB IMAGE COMPETITION (Mar 2022)
DESCRIPTION:Welcome to our image competition for January. The judge for the evening will be ________ . \nPhotographers who are participating in competition for the first time must created an alias (as outlined in the rules) and forwarded that information to the Committee prior to submitting images. \nYou may contact any members of the Competition Committee for assistance. \nGood luck! \nSEQCC Competition Committee
URL:https://www.seqcc.org/event/club-image-competition-mar-2022/
LOCATION:Zoom Meeting\, NY\, United States
CATEGORIES:Competition
ATTACH;FMTTYPE=image/jpeg:https://www.seqcc.org/wp-content/uploads/2021/02/imageComp1.jpg
ORGANIZER;CN="Competition Committee":MAILTO:DigitalComp@seqcc.org
END:VEVENT
BEGIN:VEVENT
DTSTART;TZID=America/New_York:20220222T190000
DTEND;TZID=America/New_York:20220222T210000
DTSTAMP:20260421T053029
CREATED:20210818T225713Z
LAST-MODIFIED:20210818T225713Z
UID:2806-1645556400-1645563600@www.seqcc.org
SUMMARY:CLUB IMAGE COMPETITION (Feb 2022)
DESCRIPTION:Welcome to our image competition for January. The judge for the evening will be ________ . \nPhotographers who are participating in competition for the first time must created an alias (as outlined in the rules) and forwarded that information to the Committee prior to submitting images. \nYou may contact any members of the Competition Committee for assistance. \nGood luck! \nSEQCC Competition Committee
URL:https://www.seqcc.org/event/club-image-competition-feb-2022/
LOCATION:Zoom Meeting\, NY\, United States
CATEGORIES:Competition
ATTACH;FMTTYPE=image/jpeg:https://www.seqcc.org/wp-content/uploads/2021/02/imageComp1.jpg
ORGANIZER;CN="Competition Committee":MAILTO:DigitalComp@seqcc.org
END:VEVENT
BEGIN:VEVENT
DTSTART;TZID=America/New_York:20220125T190000
DTEND;TZID=America/New_York:20220125T210000
DTSTAMP:20260421T053029
CREATED:20210818T005227Z
LAST-MODIFIED:20210818T005227Z
UID:2784-1643137200-1643144400@www.seqcc.org
SUMMARY:CLUB IMAGE COMPETITION (JAN-2022)
DESCRIPTION:Welcome to our image competition for January. The judge for the evening will be ________ . \nPhotographers who are participating in competition for the first time must created an alias (as outlined in the rules) and forwarded that information to the Committee prior to submitting images. \nYou may contact any members of the Competition Committee for assistance. \nGood luck! \nSEQCC Competition Committee
URL:https://www.seqcc.org/event/club-image-competition-jan-2022/
LOCATION:Zoom Meeting\, NY\, United States
CATEGORIES:Competition
ATTACH;FMTTYPE=image/jpeg:https://www.seqcc.org/wp-content/uploads/2021/02/imageComp1.jpg
ORGANIZER;CN="Competition Committee":MAILTO:DigitalComp@seqcc.org
END:VEVENT
BEGIN:VEVENT
DTSTART;TZID=America/New_York:20211123T190000
DTEND;TZID=America/New_York:20211123T210000
DTSTAMP:20260421T053029
CREATED:20210818T004909Z
LAST-MODIFIED:20210818T005331Z
UID:2782-1637694000-1637701200@www.seqcc.org
SUMMARY:CLUB IMAGE COMPETITION (NOV-2021)
DESCRIPTION:Welcome to our image competition for November. The judge for the evening will be ________ . \nPhotographers who are participating in competition for the first time must created an alias (as outlined in the rules) and forwarded that information to the Committee prior to submitting images. \nYou may contact any members of the Competition Committee for assistance. \nGood luck! \nSEQCC Competition Committee
URL:https://www.seqcc.org/event/club-image-competition-nov-21/
LOCATION:Zoom Meeting\, NY\, United States
CATEGORIES:Competition
ATTACH;FMTTYPE=image/jpeg:https://www.seqcc.org/wp-content/uploads/2021/02/imageComp1.jpg
ORGANIZER;CN="Competition Committee":MAILTO:DigitalComp@seqcc.org
END:VEVENT
BEGIN:VEVENT
DTSTART;TZID=America/New_York:20211119T080000
DTEND;TZID=America/New_York:20211119T235500
DTSTAMP:20260421T053029
CREATED:20211111T003539Z
LAST-MODIFIED:20211111T004301Z
UID:3002-1637308800-1637366100@www.seqcc.org
SUMMARY:COMPETITION IMAGES DUE (NOV-2021)
DESCRIPTION:Our next competition will take place on Tuesday\, November 23 at 7:00pm. The judge for the evening will be Alan Agdern. \nThe deadline for submitting digital images via DigitalComp@seqcc.org is 12:00 midnight on Friday\, November 19\, 2021. Guidelines for digital image preparation\, mailing labels\, and instructions for mounting prints are all available on the Competition page of the SEQCC website (seqcc.org)\, along with the competition rules. Photographers who are participating in competition for the first time must create an alias (as outlined in the rules) and forward that information to the Committee prior to submitting images. \n\n\nAs noted in previous competitions\,  we are continuing to conduct Black & White and Color print competitions using digital images. It is critical that your print entries be clearly identified. This is accomplished by adding the correct designation — “C” for color prints\, “BW” for black & white prints\, and “D” for digital images –to the name of the image.\nYou may use the following example of a color print entry by a Salon group photographer as a guide:  C35-alias-S1-title of imageC.jpg\nTo further distinguish the specific categories\, the subject line of your e-mail should indicate whether the submission is of a digital\, color print\, or digital print image.\nIn keeping with the recently updated PFLI guidelines\, the maximum dimension on the longer side of all digital images is 900 pixels\, instead of the prior limit of 750.  There is no change to the resolution of 72 pixels/inch.\n\nThe pandemic has presented many challenges\, and it has perhaps been difficult for some of us to create and submit images for competition.  Please remember that our guidelines allow members to submit make-up images for up to 2 competitions\, as delineated in the competition guidelines. Please see the directions below: \n\n\nAllowance for make-up entries may be made due to special circumstances for a missed competition\, but not more than twice per season. The goal of make-ups is to enhance members’ ability to maximize the total number of entries in any category in the course of a given competition season. The maximum number of entries one can enter when doing a make-up will be six (3 regular entries\, plus the 3 make-up entries)\, per category in any one competition. Partial make-ups are not permitted. If a member submits fewer than 3 make-up images in a category in a competition\, he/she will have completed the make-up provision and may not submit additional make-up image for that category. Categories\, however\, can be split; a member has the option\, for example\, to submit digital make-up images in one competition and their print images in a subsequent competition. A member who competes in multiple categories (i.e.\, digital\, color prints\, and black & white prints) need not submit all make-up entries in each category in a single competition; He/she may spread the make-up entries for additional categories across subsequent competitions during the year. The make-up allowance applies only if one misses an entire competition. A member who submits fewer than 3 entries in any category will have satisfied the competition requirement for that category and is not entitled to submit make-up images. NOTE: If a new member joins after the first competition and before the 3rd competition (month of 3rd competition) the maker has the option of making up one of the competitions(s) missed before he/she became a member. \nWe look forward to seeing more of your inspiring images. \nAs always\, you may contact members of the Competition Committee if you have any questions or concerns. \nThanks! \nSEQCC Competition Committee \nJames Fonsville            fonsone@aol.com \nDianne Heggie\, Chair   dheggie@optonline.net \nCorona Johnson           roneyplus3@gmail.com \nRalph Simmons            simmons114@aol.com \n\n 
URL:https://www.seqcc.org/event/club-image-competition-nov2021/
LOCATION:Zoom Meeting\, NY\, United States
CATEGORIES:Competition
ORGANIZER;CN="Competition Committee":MAILTO:DigitalComp@seqcc.org
END:VEVENT
BEGIN:VEVENT
DTSTART;TZID=America/New_York:20211026T190000
DTEND;TZID=America/New_York:20211026T210000
DTSTAMP:20260421T053029
CREATED:20210818T004603Z
LAST-MODIFIED:20210818T005306Z
UID:2779-1635274800-1635282000@www.seqcc.org
SUMMARY:CLUB IMAGE COMPETITION (OCT-2021)
DESCRIPTION:Welcome to our image competition for October. The judge for the evening will be ________ . \nPhotographers who are participating in competition for the first time must created an alias (as outlined in the rules) and forwarded that information to the Committee prior to submitting images. \nYou may contact any members of the Competition Committee for assistance. \nGood luck! \nSEQCC Competition Committee
URL:https://www.seqcc.org/event/club-image-competition-oct/
LOCATION:Zoom Meeting\, NY\, United States
CATEGORIES:Competition
ATTACH;FMTTYPE=image/jpeg:https://www.seqcc.org/wp-content/uploads/2021/02/imageComp1.jpg
ORGANIZER;CN="Competition Committee":MAILTO:DigitalComp@seqcc.org
END:VEVENT
BEGIN:VEVENT
DTSTART;TZID=America/New_York:20210525T190000
DTEND;TZID=America/New_York:20210525T210000
DTSTAMP:20260421T053029
CREATED:20210818T224245Z
LAST-MODIFIED:20210818T224245Z
UID:2802-1621969200-1621976400@www.seqcc.org
SUMMARY:BEST OF THE BEST (May 2021)
DESCRIPTION:
URL:https://www.seqcc.org/event/best-of-the-best-may-2021/
LOCATION:Zoom Meeting\, NY\, United States
CATEGORIES:Competition
ATTACH;FMTTYPE=image/jpeg:https://www.seqcc.org/wp-content/uploads/2021/07/c35-fonsville-s1-BLOWING-bw2.jpg
ORGANIZER;CN="Competition Committee":MAILTO:DigitalComp@seqcc.org
END:VEVENT
BEGIN:VEVENT
DTSTART;TZID=America/New_York:20210427T190000
DTEND;TZID=America/New_York:20210427T210000
DTSTAMP:20260421T053029
CREATED:20210219T145835Z
LAST-MODIFIED:20210219T145955Z
UID:1289-1619550000-1619557200@www.seqcc.org
SUMMARY:CLUB IMAGE COMPETITION (APR)
DESCRIPTION:Welcome to our image competition for April. The judge for the evening will be Alan Agdern. \nPhotographers who are participating in competition for the first time must created an alias (as outlined in the rules) and forwarded that information to the Committee prior to submitting images. \nYou may contact any members of the Competition Committee for assistance. \nGood luck! \nSEQCC Competition Committee
URL:https://www.seqcc.org/event/club-image-competition-apr/
LOCATION:Zoom Meeting\, NY\, United States
CATEGORIES:Competition
ATTACH;FMTTYPE=image/jpeg:https://www.seqcc.org/wp-content/uploads/2021/02/imageComp1.jpg
ORGANIZER;CN="Competition Committee":MAILTO:DigitalComp@seqcc.org
END:VEVENT
BEGIN:VEVENT
DTSTART;TZID=America/New_York:20210323T190000
DTEND;TZID=America/New_York:20210323T210000
DTSTAMP:20260421T053029
CREATED:20210219T145614Z
LAST-MODIFIED:20210225T004147Z
UID:1286-1616526000-1616533200@www.seqcc.org
SUMMARY:CLUB IMAGE COMPETITION (MAR)
DESCRIPTION:Welcome to our image competition for March. The judge for the evening will be Anastasia Tompkins. \nPhotographers who are participating in competition for the first time must created an alias (as outlined in the rules) and forwarded that information to the Committee prior to submitting images. \nYou may contact any members of the Competition Committee for assistance. \nGood luck! \nSEQCC Competition Committee
URL:https://www.seqcc.org/event/club-image-competition-mar/
LOCATION:Zoom Meeting\, NY\, United States
CATEGORIES:Competition
ATTACH;FMTTYPE=image/jpeg:https://www.seqcc.org/wp-content/uploads/2021/02/imageComp1.jpg
ORGANIZER;CN="Competition Committee":MAILTO:DigitalComp@seqcc.org
END:VEVENT
BEGIN:VEVENT
DTSTART;TZID=America/New_York:20210223T190000
DTEND;TZID=America/New_York:20210223T210000
DTSTAMP:20260421T053029
CREATED:20210218T004940Z
LAST-MODIFIED:20210219T145814Z
UID:1239-1614106800-1614114000@www.seqcc.org
SUMMARY:CLUB IMAGE COMPETITION (FEB)
DESCRIPTION:Welcome to our image competition for February. The judge for the evening will be Alan Agdern. \nPhotographers who are participating in competition for the first time must created an alias (as outlined in the rules) and forwarded that information to the Committee prior to submitting images. \nYou may contact any members of the Competition Committee for assistance. \nGood luck! \nSEQCC Competition Committee
URL:https://www.seqcc.org/event/club-image-competition-feb/
LOCATION:Submit Images via Email\, United States
CATEGORIES:Competition
ATTACH;FMTTYPE=image/jpeg:https://www.seqcc.org/wp-content/uploads/2021/02/imageComp1.jpg
ORGANIZER;CN="Competition Committee":MAILTO:DigitalComp@seqcc.org
END:VEVENT
BEGIN:VEVENT
DTSTART;TZID=America/New_York:20210126T190000
DTEND;TZID=America/New_York:20210126T210000
DTSTAMP:20260421T053029
CREATED:20210219T151901Z
LAST-MODIFIED:20210219T151901Z
UID:1305-1611687600-1611694800@www.seqcc.org
SUMMARY:CLUB IMAGE COMPETITION (JAN)
DESCRIPTION:Welcome to our image competition for January. The judge for the evening will be Alan Agdern. \nPhotographers who are participating in competition for the first time must created an alias (as outlined in the rules) and forwarded that information to the Committee prior to submitting images. \nYou may contact any members of the Competition Committee for assistance. \nGood luck! \nSEQCC Competition Committee
URL:https://www.seqcc.org/event/club-image-competition-jan/
LOCATION:Zoom Meeting\, NY\, United States
CATEGORIES:Competition
ATTACH;FMTTYPE=image/jpeg:https://www.seqcc.org/wp-content/uploads/2021/02/imageComp1.jpg
ORGANIZER;CN="Competition Committee":MAILTO:DigitalComp@seqcc.org
END:VEVENT
BEGIN:VEVENT
DTSTART;TZID=America/New_York:20201124T190000
DTEND;TZID=America/New_York:20201124T210000
DTSTAMP:20260421T053029
CREATED:20201005T190720Z
LAST-MODIFIED:20210225T030249Z
UID:1120-1606244400-1606251600@www.seqcc.org
SUMMARY:CLUB IMAGE COMPETITION (Nov)
DESCRIPTION:Welcome to our image competition for November. The judge for the evening will be Eli Rivera. \nPhotographers who are participating in competition for the first time must created an alias (as outlined in the rules) and forwarded that information to the Committee prior to submitting images. \nYou may contact any members of the Competition Committee for assistance. \nGood luck! \nSEQCC Competition Committee
URL:https://www.seqcc.org/event/club-image-competition-2/
LOCATION:Submit Images via Email\, United States
CATEGORIES:Competition
ATTACH;FMTTYPE=image/jpeg:https://www.seqcc.org/wp-content/uploads/2021/02/imageComp1.jpg
ORGANIZER;CN="Competition Committee":MAILTO:DigitalComp@seqcc.org
END:VEVENT
BEGIN:VEVENT
DTSTART;TZID=America/New_York:20201027T184500
DTEND;TZID=America/New_York:20201027T210000
DTSTAMP:20260421T053029
CREATED:20201005T190440Z
LAST-MODIFIED:20210225T024857Z
UID:1118-1603824300-1603832400@www.seqcc.org
SUMMARY:CLUB IMAGE COMPETITION (OCT)
DESCRIPTION:Welcome to our image competition for October. The judge for the evening will be Andrew Silver. \nPhotographers who are participating in competition for the first time must created an alias (as outlined in the rules) and forwarded that information to the Committee prior to submitting images. \nYou may contact any members of the Competition Committee for assistance. \nGood luck! \nSEQCC Competition Committee
URL:https://www.seqcc.org/event/club-image-competition/
LOCATION:Submit Images via Email\, United States
CATEGORIES:Competition
ATTACH;FMTTYPE=image/jpeg:https://www.seqcc.org/wp-content/uploads/2020/10/photography_competition-750x400-1-e1601924144854.jpg
ORGANIZER;CN="Competition Committee":MAILTO:DigitalComp@seqcc.org
END:VEVENT
END:VCALENDAR